BEGIN:VCALENDAR
VERSION:2.0
BEGIN:VEVENT
SUMMARY:Mass-Conn-Fusion at Sonny's Place
DESCRIPTION:Join us at Sonny's Place for their outdoor concert series. $10 admission fee\n
DTSTART:20260810T000000Z
DTEND:20260810T020000Z
LOCATION:349 Main St\, Somers\, CT 06071\, USA
END:VEVENT
END:VCALENDAR